BEGIN:VCALENDAR
VERSION:2.0
BEGIN:VEVENT
DTSTART;TZID=US/Eastern:20110908T160000
DTEND;TZID=US/Eastern:20110908T170000
SUMMARY:Higgs and top quark physics in high-energy colliders -- Dr. Nikoloas Kidonakis
DESCRIPTION:Departmental Colloquium. I present a brief overview of the Standard Model of particle physics, its theoretical underpinnings in Quantum Field Theory, and its experimental verification in high-energy colliders. I discuss two major aspects of current particle physics research: the search for the Higgs boson and the study of the top quark.
LOCATION:Auditorium, Physics 202
END:VEVENT
END:VCALENDAR