BEGIN:VCALENDAR
VERSION:2.0
BEGIN:VEVENT
DTSTART;TZID=US/Eastern:20110726T123000
DTEND;TZID=US/Eastern:20110726T133000
SUMMARY:Physics and Complexity:  Quantized Satisfiability -- Thomas Neuhaus
DESCRIPTION:CSP Lunch Seminar. 
LOCATION:CSP Conference Rom (322)
END:VEVENT
END:VCALENDAR