BEGIN:VCALENDAR
VERSION:2.0
BEGIN:VEVENT
DTSTART;TZID=US/Eastern:20110705T123000
DTEND;TZID=US/Eastern:20110705T133000
SUMMARY:Microcanonical statistical analysis and all that -- Michael Bachmann
DESCRIPTION:CSP Lunch Seminar. 
LOCATION:CSP Conference Room (322)
END:VEVENT
END:VCALENDAR