BEGIN:VCALENDAR
VERSION:2.0
BEGIN:VEVENT
DTSTART;TZID=US/Eastern:20110503T123000
DTEND;TZID=US/Eastern:20110503T133000
SUMMARY:Computational Study of Polymer Films Using a Monte Carlo Model of Vapor Deposition Polymerization -- Sairam Tangirala
DESCRIPTION:CSP Lunch Seminar. 
LOCATION:CSP Conference Room (322)
END:VEVENT
END:VCALENDAR