BEGIN:VCALENDAR
VERSION:2.0
BEGIN:VEVENT
DTSTART;TZID=US/Eastern:20110407T140000
DTEND;TZID=US/Eastern:20110407T150000
SUMMARY:Local Approaches to Electrostatics -- Burkhard Duenweg
DESCRIPTION:CSP Lunch Seminar. 
LOCATION:CSP Conference Room (322)
END:VEVENT
END:VCALENDAR