BEGIN:VCALENDAR
VERSION:2.0
BEGIN:VEVENT
DTSTART;TZID=US/Eastern:20110329T123000
DTEND;TZID=US/Eastern:20110329T133000
SUMMARY:Parallel Wang-Landau Simulation of Water Clusters -- Junqi Yin
DESCRIPTION:CSP Lunch Seminar. 
LOCATION:CSP Conference Room (322)
END:VEVENT
END:VCALENDAR