BEGIN:VCALENDAR
VERSION:2.0
BEGIN:VEVENT
DTSTART;TZID=US/Eastern:20100422T160000
DTEND;TZID=US/Eastern:20100422T170000
SUMMARY:Undergraduate Awards Day -- 
DESCRIPTION:Awards Ceremony. Awards will be presented to outstanding undergraduate students in the Department of Physics and Astronomy.
LOCATION:202 Physics
END:VEVENT
END:VCALENDAR