BEGIN:VCALENDAR
VERSION:2.0
BEGIN:VEVENT
DTSTART;TZID=US/Eastern:20110225T190000
DTEND;TZID=US/Eastern:20110225T120000
SUMMARY:Kepler:  Nasa’s Search for Habitable Planets -- Mr. Roger Hunter
DESCRIPTION:Special Colloquium. 
LOCATION:Physics 202
END:VEVENT
END:VCALENDAR