BEGIN:VCALENDAR
VERSION:2.0
BEGIN:VEVENT
DTSTART;TZID=US/Eastern:20110208T123000
DTEND;TZID=US/Eastern:20110208T013000
SUMMARY:Cloudy: A brief introduction and new directions -- Ryan Porter
DESCRIPTION:CSP Lunch Seminar. 
LOCATION:CSP Conference Room (322)
END:VEVENT
END:VCALENDAR