BEGIN:VCALENDAR
VERSION:2.0
BEGIN:VEVENT
DTSTART;TZID=US/Eastern:20110201T123000
DTEND;TZID=US/Eastern:20110201T133000
SUMMARY:Adsorption of polymers on nanowires:  MC studies using generic coarse-grained models -- Thomas Vogel
DESCRIPTION:CSP Lunch Seminar. 
LOCATION:CSP Conference Room (322)
END:VEVENT
END:VCALENDAR