BEGIN:VCALENDAR
VERSION:2.0
BEGIN:VEVENT
DTSTART;TZID=US/Eastern:20110209T150000
DTEND;TZID=US/Eastern:20110209T163000
SUMMARY:Thermoelectric Research at Nanoscale -- Professor Jin-Cheng Zheng
DESCRIPTION:NanoSEC Seminar. By converting waste heat into electricity through the thermoelectric power of solids without producing greenhouse gas emissions, thermoelectric generators could be an important part of the solution to today&rsquo;s energy challenge. There has been resurgence in the search of new materials for advanced thermoelectric energy conversion applications. In this talk, I will present our recent progress on thermoelectric research such as thermoelectric transport in PbTe nanostructures, pressure-inducedenhancement of thermoelectric performance in PbTe, SnTe, GeTe materials, strain engineering in graphene sheets and nanoribbons, as well as recent development of thermoelectric theory.
LOCATION:Riverbend Research South Auditorium
END:VEVENT
END:VCALENDAR