BEGIN:VCALENDAR
VERSION:2.0
BEGIN:VEVENT
DTSTART;TZID=US/Eastern:20110118T123000
DTEND;TZID=US/Eastern:20110118T133000
SUMMARY:Simulation evidence for non-local interface models:  two correlation lengths describe complete wetting -- Lijun Pang
DESCRIPTION:CSP Lunch Seminar. 
LOCATION:CSP Conference Room
END:VEVENT
END:VCALENDAR