BEGIN:VCALENDAR
VERSION:2.0
BEGIN:VEVENT
DTSTART;TZID=US/Eastern:20100415T160000
DTEND;TZID=US/Eastern:20100415T170000
SUMMARY:Graduate Awards Day -- 
DESCRIPTION:Awards Ceremony. Awards will be presented to outstanding graduate students in the Department of Physics and Astronomy.
LOCATION:202 Physics
END:VEVENT
END:VCALENDAR