BEGIN:VCALENDAR
VERSION:2.0
BEGIN:VEVENT
DTSTART;TZID=US/Eastern:20101109T123000
DTEND;TZID=US/Eastern:20101109T133000
SUMMARY:Ab-initio modeling of complex metal hydrides for hydrogen storage purposes -- Feng Zhang
DESCRIPTION:CSP Lunch Seminar. 
LOCATION:CSP Conference Room (322)
END:VEVENT
END:VCALENDAR