BEGIN:VCALENDAR
VERSION:2.0
BEGIN:VEVENT
DTSTART;TZID=US/Eastern:20101026T123000
DTEND;TZID=US/Eastern:20101026T133000
SUMMARY:Wang-Landau Simulations of Thermodynamic Behavior in Homopolymer Systems -- Daniel Seaton
DESCRIPTION:CSP Lunch Seminar. 
LOCATION:CSP Conference Room (322)
END:VEVENT
END:VCALENDAR