BEGIN:VCALENDAR
VERSION:2.0
BEGIN:VEVENT
DTSTART;TZID=US/Eastern:20101029T160000
DTEND;TZID=US/Eastern:20101029T170000
SUMMARY:Advanced Electron Microscopy at CAUR -- Jianguo Fan
DESCRIPTION:NanoSEC Seminar. Electron microscopy has become a key element in many research activities. In this talk, I will give an introduction to various microscopy instruments and techniques at CAUR (Center for Advanced Ultrastructural Research) for your research needs. A few examples will be illustrated.
LOCATION:Riverbend Research South Laboratory Auditorium
END:VEVENT
END:VCALENDAR