BEGIN:VCALENDAR
VERSION:2.0
BEGIN:VEVENT
DTSTART;TZID=US/Eastern:20100114T160000
DTEND;TZID=US/Eastern:20100114T170000
SUMMARY:Elucidation of Bacterial Genomic Structures -- Ying Xu
DESCRIPTION:Departmental Colloquium. Dr. David Landau and Dr. Robin Shelton are hosting Dr. Ying Xu of the University of Georgia Institute of Bioinformatics, Biochemistry & Molecular Biology this week.  His talk is entitled, "Elucidation of Bacterial Genomic Structures."In this talk, I will present our recent findings about how the functionalities of the cellular machinery of a bacterium might have constrained the genomic arrangement of its genes during evolution. I will discuss a number of challenging computational problems in elucidating the genomic structures at multiple levels and the information that is encoded through these genomic structures, gearing towards the ultimate understanding of the governing rules of bacterial genome organization.
LOCATION:202 Physics
END:VEVENT
END:VCALENDAR